BEGIN:VCALENDAR
VERSION:2.0
PRODID:-//Soldatenverein Diedorf - ECPv5.12.4//NONSGML v1.0//EN
CALSCALE:GREGORIAN
METHOD:PUBLISH
X-WR-CALNAME:Soldatenverein Diedorf
X-ORIGINAL-URL:https://www.skv-diedorf.de
X-WR-CALDESC:Veranstaltungen für Soldatenverein Diedorf
BEGIN:VTIMEZONE
TZID:Europe/Berlin
BEGIN:DAYLIGHT
TZOFFSETFROM:+0100
TZOFFSETTO:+0200
TZNAME:CEST
DTSTART:20230326T010000
END:DAYLIGHT
BEGIN:STANDARD
TZOFFSETFROM:+0200
TZOFFSETTO:+0100
TZNAME:CET
DTSTART:20231029T010000
END:STANDARD
END:VTIMEZONE
BEGIN:VEVENT
DTSTART;TZID=Europe/Berlin:20231125T080000
DTEND;TZID=Europe/Berlin:20231125T140000
DTSTAMP:20260420T082130
CREATED:20231015T102154Z
LAST-MODIFIED:20231027T081621Z
UID:1757-1700899200-1700920800@www.skv-diedorf.de
SUMMARY:Weihnachtsfeier 2023
DESCRIPTION:Einladung Weihnachtsfeier 2023Einladung Weihnachtsfeier 2023
URL:https://www.skv-diedorf.de/event/weihnachtsfeier-2023/
LOCATION:Bürgerhaus
END:VEVENT
END:VCALENDAR