BEGIN:VCALENDAR
VERSION:2.0
PRODID:-//Soldatenverein Diedorf - ECPv5.12.4//NONSGML v1.0//EN
CALSCALE:GREGORIAN
METHOD:PUBLISH
X-WR-CALNAME:Soldatenverein Diedorf
X-ORIGINAL-URL:https://www.skv-diedorf.de
X-WR-CALDESC:Veranstaltungen für Soldatenverein Diedorf
BEGIN:VTIMEZONE
TZID:Europe/Berlin
BEGIN:DAYLIGHT
TZOFFSETFROM:+0100
TZOFFSETTO:+0200
TZNAME:CEST
DTSTART:20230326T010000
END:DAYLIGHT
BEGIN:STANDARD
TZOFFSETFROM:+0200
TZOFFSETTO:+0100
TZNAME:CET
DTSTART:20231029T010000
END:STANDARD
END:VTIMEZONE
BEGIN:VEVENT
DTSTART;TZID=Europe/Berlin:20231118T170000
DTEND;TZID=Europe/Berlin:20231118T180000
DTSTAMP:20260420T095804
CREATED:20230802T134758Z
LAST-MODIFIED:20231027T090038Z
UID:389-1700326800-1700330400@www.skv-diedorf.de
SUMMARY:Lichterkette
DESCRIPTION:Einladung Lichterkette 2023Einladung Lichterkette 2023 \nLichterkette / Volkstrauertag: \nBeginn 17:00 Uhr \nmit einem ökumenisches Friedensgebet in der Herz Mariä Kirche. \nAnschließend Lichterkette zwischen den beiden Kirchen.  \nEnde 18:00 Uhr in der Immanuelkirche.
URL:https://www.skv-diedorf.de/event/lichterkette/
LOCATION:Diedorf
ATTACH;FMTTYPE=image/jpeg:https://www.skv-diedorf.de/wp-content/uploads/20201114_175146.jpg
END:VEVENT
END:VCALENDAR